BEGIN:VCALENDAR
VERSION:2.0
PRODID:-//hacksw/handcal//NONSGML v1.0//EN
CALSCALE:GREGORIAN
BEGIN:VEVENT
LOCATION:
DESCRIPTION:
DTSTART:20250419T080000Z
DTEND:20250419T170000Z
SUMMARY:Ziemeļvalstu čempionāts minigolfā '2025
URL;VALUE=URI:196745-212592-ziemelvalstu-cempionats-minigolfa-2025
DTSTAMP:20260421T081511Z
UID:69e7320f5d815
END:VEVENT
END:VCALENDAR