BEGIN:VCALENDAR
VERSION:2.0
PRODID:-//hacksw/handcal//NONSGML v1.0//EN
CALSCALE:GREGORIAN
BEGIN:VEVENT
LOCATION:
DESCRIPTION:
DTSTART:20250924T190000Z
DTEND:20250924T200000Z
SUMMARY:Vieglatlētikas koptreniņš
URL;VALUE=URI:200302-218084-vieglatletikas-koptrenins
DTSTAMP:20260421T081331Z
UID:69e731abb7b9b
END:VEVENT
END:VCALENDAR