BEGIN:VCALENDAR
VERSION:2.0
PRODID:-//hacksw/handcal//NONSGML v1.0//EN
CALSCALE:GREGORIAN
BEGIN:VEVENT
LOCATION:
DESCRIPTION:
DTSTART:20250903T183000Z
DTEND:20250903T200000Z
SUMMARY:Drosmes skrējiens Liepājā | 2. koptreniņš
URL;VALUE=URI:200742-218600-drosmes-skrejiens-liepaja-2-koptrenins
DTSTAMP:20260421T081655Z
UID:69e73277bd686
END:VEVENT
END:VCALENDAR