BEGIN:VCALENDAR
VERSION:2.0
PRODID:-//hacksw/handcal//NONSGML v1.0//EN
CALSCALE:GREGORIAN
BEGIN:VEVENT
LOCATION:
DESCRIPTION:
DTSTART:20260425T180000Z
DTEND:20260425T233000Z
SUMMARY:Lvbet Scores Fight Night Liepāja 6
URL;VALUE=URI:201749-220788-lvbet-scores-fight-night-liepaja-6
DTSTAMP:20260421T200806Z
UID:69e7d926ac245
END:VEVENT
END:VCALENDAR