BEGIN:VCALENDAR
VERSION:2.0
PRODID:-//hacksw/handcal//NONSGML v1.0//EN
CALSCALE:GREGORIAN
BEGIN:VEVENT
LOCATION:
DESCRIPTION:
DTSTART:20260307T190000Z
DTEND:20260307T210000Z
SUMMARY:Komēdija &quot\;Traki laba diena&quot\;
URL;VALUE=URI:202645-222316-komedija-traki-laba-diena
DTSTAMP:20260422T090250Z
UID:69e88ebaca156
END:VEVENT
END:VCALENDAR