BEGIN:VCALENDAR
VERSION:2.0
PRODID:-//hacksw/handcal//NONSGML v1.0//EN
CALSCALE:GREGORIAN
BEGIN:VEVENT
LOCATION:
DESCRIPTION:
DTSTART:20260428T190000Z
DTEND:20260428T213000Z
SUMMARY:Aprēķina komēdija &quot\;SVEŠĀ NAUDA&quot\;
URL;VALUE=URI:203859-223824-aprekina-komedija-svesa-nauda
DTSTAMP:20260421T200401Z
UID:69e7d831b53a7
END:VEVENT
END:VCALENDAR