BEGIN:VCALENDAR
VERSION:2.0
PRODID:-//hacksw/handcal//NONSGML v1.0//EN
CALSCALE:GREGORIAN
BEGIN:VEVENT
LOCATION:
DESCRIPTION:
DTSTART:20260308T130000Z
DTEND:20260308T150000Z
SUMMARY:Nacionālās līgas komandu Liepājas SSS - Jūrmala volejbola spēle
URL;VALUE=URI:203918-223888-nacionalas-ligas-komandu-liepajas-sss-jurmala-volejbola-spele
DTSTAMP:20260421T083107Z
UID:69e735cb35790
END:VEVENT
END:VCALENDAR