BEGIN:VCALENDAR
VERSION:2.0
PRODID:-//hacksw/handcal//NONSGML v1.0//EN
CALSCALE:GREGORIAN
BEGIN:VEVENT
LOCATION:
DESCRIPTION:
DTSTART:20260315T130000Z
DTEND:20260315T150000Z
SUMMARY:Nacionālās līgas komandu Liepājas SSS - RSU-2 volejbola spēle
URL;VALUE=URI:203920-223896-nacionalas-ligas-komandu-liepajas-sss-rsu-2-volejbola-spele
DTSTAMP:20260421T082021Z
UID:69e73345e3224
END:VEVENT
END:VCALENDAR