BEGIN:VCALENDAR
VERSION:2.0
PRODID:-//hacksw/handcal//NONSGML v1.0//EN
CALSCALE:GREGORIAN
BEGIN:VEVENT
LOCATION:
DESCRIPTION:
DTSTART:20260320T190000Z
DTEND:20260320T210000Z
SUMMARY:Komēdija &quot\;Tētis pēc 20 gadiem&quot\;
URL;VALUE=URI:203964-224036-komedija-tetis-pec-20-gadiem
DTSTAMP:20260421T081539Z
UID:69e7322b3889f
END:VEVENT
END:VCALENDAR