BEGIN:VCALENDAR
VERSION:2.0
PRODID:-//hacksw/handcal//NONSGML v1.0//EN
CALSCALE:GREGORIAN
BEGIN:VEVENT
LOCATION:
DESCRIPTION:
DTSTART:20260509T100000Z
DTEND:20260509T170000Z
SUMMARY:Ritma skrējiens
URL;VALUE=URI:204284-224128-ritma-skrejiens
DTSTAMP:20260421T200233Z
UID:69e7d7d96a735
END:VEVENT
END:VCALENDAR