BEGIN:VCALENDAR
VERSION:2.0
PRODID:-//hacksw/handcal//NONSGML v1.0//EN
CALSCALE:GREGORIAN
BEGIN:VEVENT
LOCATION:
DESCRIPTION:
DTSTART:20260307T100000Z
DTEND:20260307T220000Z
SUMMARY:Atklātā kausa izcīņa volejbolā sievietēm un vīriešiem
URL;VALUE=URI:204406-224384-atklata-kausa-izcina-volejbola-sievietem-un-viriesiem
DTSTAMP:20260421T082741Z
UID:69e734fd116bf
END:VEVENT
END:VCALENDAR