BEGIN:VCALENDAR
VERSION:2.0
PRODID:-//hacksw/handcal//NONSGML v1.0//EN
CALSCALE:GREGORIAN
BEGIN:VEVENT
LOCATION:
DESCRIPTION:
DTSTART:20260314T170000Z
DTEND:20260314T190000Z
SUMMARY:BK &quot\;Liepāja&quot\; - &quot\;VEF Rīga&quot\;
URL;VALUE=URI:204670-224996-bk-liepaja-vef-riga
DTSTAMP:20260421T081243Z
UID:69e7317b02ddc
END:VEVENT
END:VCALENDAR