BEGIN:VCALENDAR
VERSION:2.0
PRODID:-//hacksw/handcal//NONSGML v1.0//EN
CALSCALE:GREGORIAN
BEGIN:VEVENT
LOCATION:
DESCRIPTION:
DTSTART:20260314T140000Z
DTEND:20260314T160000Z
SUMMARY:SBK &quot\;Liepāja/LSSS&quot\; - Kauņas &quot\;Atletas&quot\;
URL;VALUE=URI:204671-225000-sbk-liepajalsss-kaunas-atletas
DTSTAMP:20260421T081511Z
UID:69e7320f5b85a
END:VEVENT
END:VCALENDAR