BEGIN:VCALENDAR
VERSION:2.0
PRODID:-//hacksw/handcal//NONSGML v1.0//EN
CALSCALE:GREGORIAN
BEGIN:VEVENT
LOCATION:
DESCRIPTION:
DTSTART:20260308T120000Z
DTEND:20260308T180000Z
SUMMARY:Babolat balvas izcīņa U12 (LR-3)
URL;VALUE=URI:204710-225056-babolat-balvas-izcina-u12-lr-3
DTSTAMP:20260421T083713Z
UID:69e73739efa2c
END:VEVENT
END:VCALENDAR