BEGIN:VCALENDAR
VERSION:2.0
PRODID:-//hacksw/handcal//NONSGML v1.0//EN
CALSCALE:GREGORIAN
BEGIN:VEVENT
LOCATION:
DESCRIPTION:
DTSTART:20260308T110000Z
DTEND:20260308T180000Z
SUMMARY:Dubultspēļu turnīrs U10
URL;VALUE=URI:204711-225060-dubultspelu-turnirs-u10
DTSTAMP:20260421T081243Z
UID:69e7317b029c2
END:VEVENT
END:VCALENDAR