BEGIN:VCALENDAR
VERSION:2.0
PRODID:-//hacksw/handcal//NONSGML v1.0//EN
CALSCALE:GREGORIAN
BEGIN:VEVENT
LOCATION:
DESCRIPTION:
DTSTART:20260315T110000Z
DTEND:20260315T180000Z
SUMMARY:Anastasijas Sevastovas balvas izcīņa U8\, U9\, U10
URL;VALUE=URI:204713-225064-anastasijas-sevastovas-balvas-izcina-u8-u9-u10
DTSTAMP:20260423T091523Z
UID:69e9e32bc0d9e
END:VEVENT
END:VCALENDAR