BEGIN:VCALENDAR
VERSION:2.0
PRODID:-//hacksw/handcal//NONSGML v1.0//EN
CALSCALE:GREGORIAN
BEGIN:VEVENT
LOCATION:
DESCRIPTION:
DTSTART:20260322T100000Z
DTEND:20260322T180000Z
SUMMARY:JIL LTSS balvas izcīņa U12 (LR-5)
URL;VALUE=URI:204714-225068-jil-ltss-balvas-izcina-u12-lr-5
DTSTAMP:20260421T081511Z
UID:69e7320fd3702
END:VEVENT
END:VCALENDAR