BEGIN:VCALENDAR
VERSION:2.0
PRODID:-//hacksw/handcal//NONSGML v1.0//EN
CALSCALE:GREGORIAN
BEGIN:VEVENT
LOCATION:
DESCRIPTION:
DTSTART:20260314T130000Z
DTEND:20260314T150000Z
SUMMARY:II Jauniešu Deju svētku un koprepertuāra pārbaudes skate
URL;VALUE=URI:204748-225188-ii-jauniesu-deju-svetku-un-koprepertuara-parbaudes-skate
DTSTAMP:20260421T082407Z
UID:69e734270018e
END:VEVENT
END:VCALENDAR