BEGIN:VCALENDAR
VERSION:2.0
PRODID:-//hacksw/handcal//NONSGML v1.0//EN
CALSCALE:GREGORIAN
BEGIN:VEVENT
LOCATION:
DESCRIPTION:
DTSTART:20260314T200000Z
DTEND:20260314T223000Z
SUMMARY:Liepājas un Dienvidkurzemes skatuviskās dejas kolektīvu skate
URL;VALUE=URI:204749-225192-liepajas-un-dienvidkurzemes-skatuviskas-dejas-kolektivu-skate
DTSTAMP:20260421T082145Z
UID:69e7339999f14
END:VEVENT
END:VCALENDAR