BEGIN:VCALENDAR
VERSION:2.0
PRODID:-//hacksw/handcal//NONSGML v1.0//EN
CALSCALE:GREGORIAN
BEGIN:VEVENT
LOCATION:
DESCRIPTION:
DTSTART:20260307T140000Z
DTEND:20260307T150000Z
SUMMARY:Publiskā slidotava
URL;VALUE=URI:204864-225496-publiska-slidotava
DTSTAMP:20260421T081128Z
UID:69e73130dc19e
END:VEVENT
END:VCALENDAR