BEGIN:VCALENDAR
VERSION:2.0
PRODID:-//hacksw/handcal//NONSGML v1.0//EN
CALSCALE:GREGORIAN
BEGIN:VEVENT
LOCATION:
DESCRIPTION:
DTSTART:20260308T160000Z
DTEND:20260308T170000Z
SUMMARY:Publiskā slidotava ar nūjām (hokejs)
URL;VALUE=URI:204868-225512-publiska-slidotava-ar-nujam-hokejs
DTSTAMP:20260419T132948Z
UID:69e4d8ccabaf4
END:VEVENT
END:VCALENDAR