BEGIN:VCALENDAR
VERSION:2.0
PRODID:-//hacksw/handcal//NONSGML v1.0//EN
CALSCALE:GREGORIAN
BEGIN:VEVENT
LOCATION:
DESCRIPTION:
DTSTART:20260308T130000Z
DTEND:20260308T150000Z
SUMMARY:Volejbols: Liepājas Sporta spēļu skola - Jūrmalas volejbola klubs
URL;VALUE=URI:204878-225552-volejbols-liepajas-sporta-spelu-skola-jurmalas-volejbola-klubs
DTSTAMP:20260421T082859Z
UID:69e7354b63bb8
END:VEVENT
END:VCALENDAR