BEGIN:VCALENDAR
VERSION:2.0
PRODID:-//hacksw/handcal//NONSGML v1.0//EN
CALSCALE:GREGORIAN
BEGIN:VEVENT
LOCATION:
DESCRIPTION:
DTSTART:20260312T191500Z
DTEND:20260312T204500Z
SUMMARY:Liepājas pilsētas basketbola čempionāts
URL;VALUE=URI:204880-225560-liepajas-pilsetas-basketbola-cempionats
DTSTAMP:20260422T090311Z
UID:69e88ecf2cb18
END:VEVENT
END:VCALENDAR