BEGIN:VCALENDAR
VERSION:2.0
PRODID:-//hacksw/handcal//NONSGML v1.0//EN
CALSCALE:GREGORIAN
BEGIN:VEVENT
LOCATION:
DESCRIPTION:
DTSTART:20260502T200000Z
DTEND:20260502T220000Z
SUMMARY:Grupas &quot\;SUDDEN LIGHTS&quot\; lielkoncerts
URL;VALUE=URI:205230-226156-grupas-sudden-lights-lielkoncerts
DTSTAMP:20260421T200355Z
UID:69e7d82b89f3a
END:VEVENT
END:VCALENDAR