BEGIN:VCALENDAR
VERSION:2.0
PRODID:-//hacksw/handcal//NONSGML v1.0//EN
CALSCALE:GREGORIAN
BEGIN:VEVENT
LOCATION:
DESCRIPTION:
DTSTART:20260426T160000Z
DTEND:20260426T120000Z
SUMMARY:2026.gada Latvijas čempionāts boksā U15\, U17
URL;VALUE=URI:205514-226828-2026gada-latvijas-cempionats-boksa-u15-u17
DTSTAMP:20260421T200859Z
UID:69e7d95b318cb
END:VEVENT
END:VCALENDAR