BEGIN:VCALENDAR
VERSION:2.0
PRODID:-//hacksw/handcal//NONSGML v1.0//EN
CALSCALE:GREGORIAN
BEGIN:VEVENT
LOCATION:
DESCRIPTION:
DTSTART:20260425T110000Z
DTEND:20260425T160000Z
SUMMARY:Pavasara turnīrs grieķu-romiešu cīņā
URL;VALUE=URI:205517-226836-pavasara-turnirs-grieku-romiesu-cina
DTSTAMP:20260421T200524Z
UID:69e7d884504ba
END:VEVENT
END:VCALENDAR