BEGIN:VCALENDAR
VERSION:2.0
PRODID:-//hacksw/handcal//NONSGML v1.0//EN
CALSCALE:GREGORIAN
BEGIN:VEVENT
LOCATION:
DESCRIPTION:
DTSTART:20260421T100000Z
DTEND:20260421T120000Z
SUMMARY:&quot\;Spurts&quot\; vidusskolas posma īstenošanas uzsākšana
URL;VALUE=URI:205779-227296-spurts-vidusskolas-posma-istenosanas-uzsaksana
DTSTAMP:20260421T200407Z
UID:69e7d837185c6
END:VEVENT
END:VCALENDAR