BEGIN:VCALENDAR
VERSION:2.0
PRODID:-//hacksw/handcal//NONSGML v1.0//EN
CALSCALE:GREGORIAN
BEGIN:VEVENT
LOCATION:
DESCRIPTION:
DTSTART:20260517T100000Z
DTEND:20260517T150000Z
SUMMARY:Babolat balvas izcīņa U14 (LR-3)
URL;VALUE=URI:205813-227416-babolat-balvas-izcina-u14-lr-3
DTSTAMP:20260421T200227Z
UID:69e7d7d3e3b32
END:VEVENT
END:VCALENDAR